BEGIN:VCALENDAR
VERSION:2.0
PRODID:-//Degenesis-Larp.de - ECPv6.15.20//NONSGML v1.0//EN
CALSCALE:GREGORIAN
METHOD:PUBLISH
X-ORIGINAL-URL:https://degenesis-larp.de
X-WR-CALDESC:Veranstaltungen für Degenesis-Larp.de
REFRESH-INTERVAL;VALUE=DURATION:PT1H
X-Robots-Tag:noindex
X-PUBLISHED-TTL:PT1H
BEGIN:VTIMEZONE
TZID:Europe/Berlin
BEGIN:DAYLIGHT
TZOFFSETFROM:+0100
TZOFFSETTO:+0200
TZNAME:CEST
DTSTART:20240331T010000
END:DAYLIGHT
BEGIN:STANDARD
TZOFFSETFROM:+0200
TZOFFSETTO:+0100
TZNAME:CET
DTSTART:20241027T010000
END:STANDARD
BEGIN:DAYLIGHT
TZOFFSETFROM:+0100
TZOFFSETTO:+0200
TZNAME:CEST
DTSTART:20250330T010000
END:DAYLIGHT
BEGIN:STANDARD
TZOFFSETFROM:+0200
TZOFFSETTO:+0100
TZNAME:CET
DTSTART:20251026T010000
END:STANDARD
BEGIN:DAYLIGHT
TZOFFSETFROM:+0100
TZOFFSETTO:+0200
TZNAME:CEST
DTSTART:20260329T010000
END:DAYLIGHT
BEGIN:STANDARD
TZOFFSETFROM:+0200
TZOFFSETTO:+0100
TZNAME:CET
DTSTART:20261025T010000
END:STANDARD
END:VTIMEZONE
BEGIN:VEVENT
DTSTART;VALUE=DATE:20251204
DTEND;VALUE=DATE:20251208
DTSTAMP:20260421T001827
CREATED:20250115T205352Z
LAST-MODIFIED:20250115T210611Z
UID:2535-1764806400-1765151999@degenesis-larp.de
SUMMARY:Zenit 6 - Hammerschlag
DESCRIPTION:Am 04.12.2025 öffnet Zenit 6 seine Tore! \nDas Degenesis-LARP-Event der Zenit-Orga (Projekt des “nichts.als.worte. e.V.”) findet voraussichtlich im Wasserschloss Wülmersen in Trendelburg statt. \nIm Fokus steht eine Klausurtagung der Richtschaft\, die Gerechtigkeit und Zivilisation des Protektorats zelebriert. Gerichtsverfahren\, Politik und kulturelle Höhepunkte erwarten euch – vom Alkoven des Clusters bis zu wohltätigen Behandlungen des Spitals. \nMitglieder aller Kulte und Kultlose sind eingeladen\, dem Spektakel beizuwohnen\, zu lernen und vielleicht Ruhm und Reichtum zu erlangen. \nDetails: \n• Time-In: 04.12.\, ab 15 Uhr (GSC-Anreise ab 03.12.) \n• Unterkunft: Mehrbettzimmer mit Vollverpflegung \n• Highlights: Blackboxszenen\, Plotfortführungen \n• Anmeldung: Ab dem 01.02.2025 möglich Wir freuen uns auf euch! \nHier gehts zur Anmeldung
URL:https://degenesis-larp.de/event/zenit-6-hammerschlag/
LOCATION:Wasserschloss Wülmersen\, Nähe\, Trendelburg\, 34388
CATEGORIES:LARP
ATTACH;FMTTYPE=image/jpeg:https://degenesis-larp.de/wp-content/uploads/Z6.jpg
ORGANIZER;CN="Zenit Orga":MAILTO:zenitendzeitlarp@gmail.com
END:VEVENT
END:VCALENDAR