BEGIN:VCALENDAR
VERSION:2.0
PRODID:-//Degenesis-Larp.de - ECPv6.15.20//NONSGML v1.0//EN
CALSCALE:GREGORIAN
METHOD:PUBLISH
X-ORIGINAL-URL:https://degenesis-larp.de
X-WR-CALDESC:Veranstaltungen für Degenesis-Larp.de
REFRESH-INTERVAL;VALUE=DURATION:PT1H
X-Robots-Tag:noindex
X-PUBLISHED-TTL:PT1H
BEGIN:VTIMEZONE
TZID:Europe/Berlin
BEGIN:DAYLIGHT
TZOFFSETFROM:+0100
TZOFFSETTO:+0200
TZNAME:CEST
DTSTART:20240331T010000
END:DAYLIGHT
BEGIN:STANDARD
TZOFFSETFROM:+0200
TZOFFSETTO:+0100
TZNAME:CET
DTSTART:20241027T010000
END:STANDARD
BEGIN:DAYLIGHT
TZOFFSETFROM:+0100
TZOFFSETTO:+0200
TZNAME:CEST
DTSTART:20250330T010000
END:DAYLIGHT
BEGIN:STANDARD
TZOFFSETFROM:+0200
TZOFFSETTO:+0100
TZNAME:CET
DTSTART:20251026T010000
END:STANDARD
BEGIN:DAYLIGHT
TZOFFSETFROM:+0100
TZOFFSETTO:+0200
TZNAME:CEST
DTSTART:20260329T010000
END:DAYLIGHT
BEGIN:STANDARD
TZOFFSETFROM:+0200
TZOFFSETTO:+0100
TZNAME:CET
DTSTART:20261025T010000
END:STANDARD
END:VTIMEZONE
BEGIN:VEVENT
DTSTART;VALUE=DATE:20250424
DTEND;VALUE=DATE:20250428
DTSTAMP:20260425T055940
CREATED:20241001T160326Z
LAST-MODIFIED:20250115T082838Z
UID:2512-1745452800-1745798399@degenesis-larp.de
SUMMARY:Bordenoir 2 - Diplomatenjagd
DESCRIPTION:Die Anmeldung ist hier: https://forms.gle/6uCMaLLJvZSxnF226 \nDer Con-Beitrag ist gestaffelt:\nStaffel 1 bis zum 30.11: 90€\nStaffel 2 01.12. bis 31.01: 105€\nStaffel 3 01.02. bis 20.04: 120€ \nFast ein Jahr nach den Ereignissen von The Killing Game und dem Bordenoir 1 geht unsere Conreihe in die zweite Runde! Wir wollen wir mit euch die Eröffnung einer Kunstgalerie bespielen\, die natürlich als Bühne für Intrigen\, Konflikte und viel interpersonellem Spiel dient. \nUnser Conkonzept bleibt das gleiche: Ein starker Fokus auf gut eingebundene Charaktere\, Spiel zwischen Fraktionen und Charakteren und dem Blick auf Bereiche der Degenesis-Welt\, die sonst eher selten im Fokus stehen. Dabei ist es sowohl möglich\, bestehende Charaktere einzubinden\, als auch neue mit der Orga zu erstellen oder von uns vorgefertigte Rollen zu übernehmen. Jeder Charakter wird mit Verknüpfungen und Zielen ausgestattet\, um schnell und intensiv ins Spiel eintauchen zu können. \n„An den hochgeschätzten Zacharie Isaac LeChevre\, Commandant a.D. der Resistance de la Franca liberée \n Sie sind herzlich eingeladen\, den Eröffnungsfeierlichkeiten einer neuen Kunstgalerie beizuwohnen\, in der dem Volk der Bordenoir der Gedanke des geeinten Frankas näher gebracht werden soll. Es sollen Kunstschätze ausgestellt werden\, die letzten Sommer aus den Händen diebischer Apokalyptiker gerettet werden konnten – auf dass sie das frankische Volk inspirieren und zusammenführen! Die Resistance freut sich insbesondere über die großzügige Spende des Neolybiers Tshepo\, die dieses Projekt erst ermöglicht hat. Am 25. April des Jahres 2597 nach der Zeitrechnung des Urvolkes wollen wir im Maison des Amis du Biote\, bei der Stadt Surmer\, feierlich die Galerie eröffnen\, die Festlichkeiten sollen das gesamte Wochenende andauern. Hochachtungsvoll\, Im Auftrag Pelat du Casse Grand Savant du Resistance de la Franca liberée“  \nEin Grund zum Feiern in der Bordenoir! Franka steht zusammen\, gemeinsam können wir Berge versetzen. Bordenoir\, Sanglier\, Wiedertäufer\, Jehammedaner oder einfache Citoyen – in uns allen schlägt das Herz für unsere Grande Nation! Um das Wissen\, worum wir kämpfen\, allen näherzubringen\, hat Grande Savant Pelat du Casse beschlossen\, eine neue Kunstgalerie eröffnen zu lassen – am 25. April\, bei Surmer! Und auch unsere Freunde aus Africa stehen mit uns – der Neolybier Tshepo hat sein Anwesen\, das Maison des Amis du biote zur Verfügung gestellt. (Garantierter Einlass nur für geladene Gäste) (Artikel im Amie du peuple\, Ausgabe 755: 1/2597) \nCharakterservice\nIhr denkt darüber nach\, zum Bordenoir 2 zu kommen\, habt aber keinen passenden Charakter? Ihr wollte erst den Charakter fest haben\, bevor ihr euch fest anmeldet? Ihr wollt von uns einen Charakter für euch geschrieben bekommen? Schickt uns gerne eure Spielvorlieben im Charakterservice-Fragebogen und wir kommen mit Ideen auf euch zu! https://forms.gle/8UzsUE7QJSFx67zs6
URL:https://degenesis-larp.de/event/bordenoir-2-diplomatenjagd/
LOCATION:Naturfreundehaus Neuenkamp\, Neuenkamp 10\, Leichlingen\, NRW\, 42799\, Germany
CATEGORIES:LARP
ORGANIZER;CN="Bordenoir-Orga":MAILTO:bordenoir.larp@gmail.com
END:VEVENT
END:VCALENDAR