BEGIN:VCALENDAR
VERSION:2.0
PRODID:-//Degenesis-Larp.de - ECPv6.15.20//NONSGML v1.0//EN
CALSCALE:GREGORIAN
METHOD:PUBLISH
X-ORIGINAL-URL:https://degenesis-larp.de
X-WR-CALDESC:Veranstaltungen für Degenesis-Larp.de
REFRESH-INTERVAL;VALUE=DURATION:PT1H
X-Robots-Tag:noindex
X-PUBLISHED-TTL:PT1H
BEGIN:VTIMEZONE
TZID:Europe/Berlin
BEGIN:DAYLIGHT
TZOFFSETFROM:+0100
TZOFFSETTO:+0200
TZNAME:CEST
DTSTART:20230326T010000
END:DAYLIGHT
BEGIN:STANDARD
TZOFFSETFROM:+0200
TZOFFSETTO:+0100
TZNAME:CET
DTSTART:20231029T010000
END:STANDARD
BEGIN:DAYLIGHT
TZOFFSETFROM:+0100
TZOFFSETTO:+0200
TZNAME:CEST
DTSTART:20240331T010000
END:DAYLIGHT
BEGIN:STANDARD
TZOFFSETFROM:+0200
TZOFFSETTO:+0100
TZNAME:CET
DTSTART:20241027T010000
END:STANDARD
BEGIN:DAYLIGHT
TZOFFSETFROM:+0100
TZOFFSETTO:+0200
TZNAME:CEST
DTSTART:20250330T010000
END:DAYLIGHT
BEGIN:STANDARD
TZOFFSETFROM:+0200
TZOFFSETTO:+0100
TZNAME:CET
DTSTART:20251026T010000
END:STANDARD
END:VTIMEZONE
BEGIN:VEVENT
DTSTART;VALUE=DATE:20241114
DTEND;VALUE=DATE:20241118
DTSTAMP:20260421T201034
CREATED:20240310T192118Z
LAST-MODIFIED:20250111T105630Z
UID:2488-1731542400-1731887999@degenesis-larp.de
SUMMARY:Eshaton 2024
DESCRIPTION:Der Winter ist über den Peak8 gekommen und hat alles in eine dünne Schneedecke gehüllt. Der Schnee verdeckt die Spuren der dramatischen Ereignisse des vergangenen Jahres. Verdeckt sind die Fußabdrücke und Reifenspuren im schlammigen Kies und das Blut\, welches die Eiserne Faust Justitians vergossen hat. Verdeckt\, aber nicht vergessen. Doch neue Bedrohungen werfen ihre Schatten voraus. Das Ödland ist in Aufruhr\, Gerüchte kommen von allen Seiten. Was an ihnen dran ist wird die Zeit zeigen… \nDie nächste Degenesis Con der Projekt ESHATON Orga findet statt vom 14.11. – 17.11.24 im Stöffel Park Enspel. \nWeitere Infos auf https://eshaton.de/
URL:https://degenesis-larp.de/event/save-the-date-eshaton-2024/
LOCATION:Stöffel-Park\, Enspel\, 57647\, Deutschland
CATEGORIES:LARP
ATTACH;FMTTYPE=image/jpeg:https://degenesis-larp.de/wp-content/uploads/IMG_5542.jpg
END:VEVENT
END:VCALENDAR